BEGIN:VCALENDAR
VERSION:2.0
PRODID:-//wp-events-plugin.com//7.2.3.1//EN
BEGIN:VEVENT
UID:823@helden-repetal.de
DTSTART;TZID=Europe/Berlin:20260306T170000
DTEND;TZID=Europe/Berlin:20260306T220000
DTSTAMP:20251120T065408Z
URL:https://helden-repetal.de/termine/aufbau-konzert-3/
SUMMARY:Aufbau Konzert
DESCRIPTION:Dorfverein\n\nRäume: ALLE
END:VEVENT
BEGIN:VTIMEZONE
TZID:Europe/Berlin
X-LIC-LOCATION:Europe/Berlin
BEGIN:STANDARD
DTSTART:20251026T020000
TZOFFSETFROM:+0200
TZOFFSETTO:+0100
TZNAME:CET
END:STANDARD
END:VTIMEZONE
END:VCALENDAR