BEGIN:VCALENDAR
VERSION:2.0
PRODID:-//wp-events-plugin.com//7.2.3.1//EN
BEGIN:VEVENT
UID:876@helden-repetal.de
DTSTART;TZID=Europe/Berlin;VALUE=DATE:20251130
DTEND;TZID=Europe/Berlin;VALUE=DATE:20251201
DTSTAMP:20251127T152131Z
URL:https://helden-repetal.de/termine/einsingen-6/
SUMMARY:Einsingen
DESCRIPTION:HEL-CANTO\n\n&nbsp\;
END:VEVENT
BEGIN:VTIMEZONE
TZID:Europe/Berlin
X-LIC-LOCATION:Europe/Berlin
BEGIN:STANDARD
DTSTART:20251026T020000
TZOFFSETFROM:+0200
TZOFFSETTO:+0100
TZNAME:CET
END:STANDARD
END:VTIMEZONE
END:VCALENDAR