BEGIN:VCALENDAR
VERSION:2.0
PRODID:-//wp-events-plugin.com//7.2.3.1//EN
BEGIN:VEVENT
UID:791@helden-repetal.de
DTSTART;TZID=Europe/Berlin;VALUE=DATE:20260201
DTEND;TZID=Europe/Berlin;VALUE=DATE:20260202
DTSTAMP:20250929T165222Z
URL:https://helden-repetal.de/termine/familienfeier-11/
SUMMARY:Familienfeier
DESCRIPTION:privat (HS)\n\nRäume: ?
END:VEVENT
BEGIN:VTIMEZONE
TZID:Europe/Berlin
X-LIC-LOCATION:Europe/Berlin
BEGIN:STANDARD
DTSTART:20251026T020000
TZOFFSETFROM:+0200
TZOFFSETTO:+0100
TZNAME:CET
END:STANDARD
END:VTIMEZONE
END:VCALENDAR