BEGIN:VCALENDAR
VERSION:2.0
PRODID:-//wp-events-plugin.com//7.2.3.1//EN
BEGIN:VEVENT
UID:812@helden-repetal.de
DTSTART;TZID=Europe/Berlin:20261121T190000
DTEND;TZID=Europe/Berlin:20261121T230000
DTSTAMP:20251113T151942Z
URL:https://helden-repetal.de/termine/freudentraenenliederabend-2/
SUMMARY:Freudentränenliederabend
DESCRIPTION:Dorfverein\n\nRäume: ALLE
END:VEVENT
BEGIN:VTIMEZONE
TZID:Europe/Berlin
X-LIC-LOCATION:Europe/Berlin
BEGIN:STANDARD
DTSTART:20261025T020000
TZOFFSETFROM:+0200
TZOFFSETTO:+0100
TZNAME:CET
END:STANDARD
END:VTIMEZONE
END:VCALENDAR