BEGIN:VCALENDAR
VERSION:2.0
PRODID:-//wp-events-plugin.com//7.2.3.1//EN
BEGIN:VEVENT
UID:810@helden-repetal.de
DTSTART;TZID=Europe/Berlin:20261026T090000
DTEND;TZID=Europe/Berlin:20261029T170000
DTSTAMP:20251112T121346Z
URL:https://helden-repetal.de/termine/kreative-buehnenhelden/
SUMMARY:Kreative Bühnenhelden
DESCRIPTION:Caritas AufWind (in Planung)\n\nRäume: ALLE
END:VEVENT
BEGIN:VTIMEZONE
TZID:Europe/Berlin
X-LIC-LOCATION:Europe/Berlin
BEGIN:STANDARD
DTSTART:20261025T020000
TZOFFSETFROM:+0200
TZOFFSETTO:+0100
TZNAME:CET
END:STANDARD
END:VTIMEZONE
END:VCALENDAR