BEGIN:VCALENDAR
VERSION:2.0
PRODID:-//wp-events-plugin.com//7.2.3.1//EN
BEGIN:VEVENT
UID:935@helden-repetal.de
DTSTART;TZID=Europe/Berlin;VALUE=DATE:20260125
DTEND;TZID=Europe/Berlin;VALUE=DATE:20260126
DTSTAMP:20260114T171439Z
URL:https://helden-repetal.de/termine/pinkelfete-4/
SUMMARY:Pinkelfete
DESCRIPTION:privat
END:VEVENT
BEGIN:VTIMEZONE
TZID:Europe/Berlin
X-LIC-LOCATION:Europe/Berlin
BEGIN:STANDARD
DTSTART:20251026T020000
TZOFFSETFROM:+0200
TZOFFSETTO:+0100
TZNAME:CET
END:STANDARD
END:VTIMEZONE
END:VCALENDAR