BEGIN:VCALENDAR
VERSION:2.0
PRODID:-//wp-events-plugin.com//7.2.3.1//EN
BEGIN:VEVENT
UID:931@helden-repetal.de
DTSTART;TZID=Europe/Berlin:20251230T180000
DTEND;TZID=Europe/Berlin:20251230T210000
DTSTAMP:20251224T080944Z
URL:https://helden-repetal.de/termine/probe-10/
SUMMARY:Probe
DESCRIPTION:DUNKEL-CANTO\n\nRaum: Halle
END:VEVENT
BEGIN:VTIMEZONE
TZID:Europe/Berlin
X-LIC-LOCATION:Europe/Berlin
BEGIN:STANDARD
DTSTART:20251026T020000
TZOFFSETFROM:+0200
TZOFFSETTO:+0100
TZNAME:CET
END:STANDARD
END:VTIMEZONE
END:VCALENDAR