BEGIN:VCALENDAR
VERSION:2.0
PRODID:-//wp-events-plugin.com//7.2.3.1//EN
BEGIN:VEVENT
UID:818@helden-repetal.de
DTSTART;TZID=Europe/Berlin:20260121T183000
DTEND;TZID=Europe/Berlin:20260121T220000
DTSTAMP:20251120T064425Z
URL:https://helden-repetal.de/termine/probe-5-2026-01-07-2026-01-14-2026-0
 1-21/
SUMMARY:Probe
DESCRIPTION:DUNKEL-CANTO\n\nRaum: Halle
END:VEVENT
BEGIN:VTIMEZONE
TZID:Europe/Berlin
X-LIC-LOCATION:Europe/Berlin
BEGIN:STANDARD
DTSTART:20251026T020000
TZOFFSETFROM:+0200
TZOFFSETTO:+0100
TZNAME:CET
END:STANDARD
END:VTIMEZONE
END:VCALENDAR