BEGIN:VCALENDAR
VERSION:2.0
PRODID:-//wp-events-plugin.com//7.2.3.1//EN
BEGIN:VEVENT
UID:840@helden-repetal.de
DTSTART;TZID=Europe/Berlin:20260427T200000
DTEND;TZID=Europe/Berlin:20260427T223000
DTSTAMP:20251120T103143Z
URL:https://helden-repetal.de/termine/probe-6-2026-01-12-2026-01-19-2026-0
 1-26-2026-02-02-2026-02-09-2026-02-16-2026-02-23-2026-03-02-2026-03-09-202
 6-03-16-2026-03-23-2026-03-30-2026-04-06-2026-04-13-2026-04-20-2026-04-27/
SUMMARY:Probe
DESCRIPTION:Hel-Canto\n\nRaum: Halle
END:VEVENT
BEGIN:VTIMEZONE
TZID:Europe/Berlin
X-LIC-LOCATION:Europe/Berlin
BEGIN:DAYLIGHT
DTSTART:20260329T030000
TZOFFSETFROM:+0100
TZOFFSETTO:+0200
TZNAME:CEST
END:DAYLIGHT
END:VTIMEZONE
END:VCALENDAR