BEGIN:VCALENDAR
VERSION:2.0
PRODID:-//wp-events-plugin.com//7.2.3.1//EN
BEGIN:VEVENT
UID:164@helden-repetal.de
DTSTART;TZID=Europe/Berlin:20231113T201500
DTEND;TZID=Europe/Berlin:20231113T214500
DTSTAMP:20230806T140709Z
URL:https://helden-repetal.de/termine/probe-hel-canto-2023-11-13/
SUMMARY:Probe HEL-CANTO
DESCRIPTION:HEL-CANTO\n\nRäume: Halle/Saal
END:VEVENT
BEGIN:VTIMEZONE
TZID:Europe/Berlin
X-LIC-LOCATION:Europe/Berlin
BEGIN:STANDARD
DTSTART:20231029T020000
TZOFFSETFROM:+0200
TZOFFSETTO:+0100
TZNAME:CET
END:STANDARD
END:VTIMEZONE
END:VCALENDAR