BEGIN:VCALENDAR
VERSION:2.0
PRODID:-//wp-events-plugin.com//7.2.3.1//EN
BEGIN:VEVENT
UID:288@helden-repetal.de
DTSTART;TZID=Europe/Berlin:20241022T140000
DTEND;TZID=Europe/Berlin:20241022T180000
DTSTAMP:20231227T091304Z
URL:https://helden-repetal.de/termine/stricknachmittag-der-stricklieseln-2
 -2024-10-22/
SUMMARY:Stricknachmittag der "Stricklieseln"
DESCRIPTION:Raum: Saal
END:VEVENT
BEGIN:VTIMEZONE
TZID:Europe/Berlin
X-LIC-LOCATION:Europe/Berlin
BEGIN:DAYLIGHT
DTSTART:20240331T030000
TZOFFSETFROM:+0100
TZOFFSETTO:+0200
TZNAME:CEST
END:DAYLIGHT
END:VTIMEZONE
END:VCALENDAR