BEGIN:VCALENDAR
VERSION:2.0
PRODID:-//wp-events-plugin.com//7.2.3.1//EN
BEGIN:VEVENT
UID:685@helden-repetal.de
DTSTART;TZID=Europe/Berlin:20250310T120000
DTEND;TZID=Europe/Berlin:20250310T130000
DTSTAMP:20250309T171803Z
URL:https://helden-repetal.de/termine/tischtennis-gruppe-5/
SUMMARY:Tischtennis-Gruppe
DESCRIPTION:Dorfverein\n\nHalle
END:VEVENT
BEGIN:VTIMEZONE
TZID:Europe/Berlin
X-LIC-LOCATION:Europe/Berlin
BEGIN:STANDARD
DTSTART:20241027T020000
TZOFFSETFROM:+0200
TZOFFSETTO:+0100
TZNAME:CET
END:STANDARD
END:VTIMEZONE
END:VCALENDAR