BEGIN:VCALENDAR
VERSION:2.0
PRODID:-//wp-events-plugin.com//7.2.3.1//EN
BEGIN:VEVENT
UID:790@helden-repetal.de
DTSTART;TZID=Europe/Berlin:20251112T193000
DTEND;TZID=Europe/Berlin:20251112T220000
DTSTAMP:20250927T102002Z
URL:https://helden-repetal.de/termine/vereinsforum-mit-veranstaltungskalen
 der-besprechung-2026/
SUMMARY:VereinsForum mit Terminkalender-Besprechung 2026
DESCRIPTION:TCR / Dorfverein\n\nRaum: Halle
END:VEVENT
BEGIN:VTIMEZONE
TZID:Europe/Berlin
X-LIC-LOCATION:Europe/Berlin
BEGIN:STANDARD
DTSTART:20251026T020000
TZOFFSETFROM:+0200
TZOFFSETTO:+0100
TZNAME:CET
END:STANDARD
END:VTIMEZONE
END:VCALENDAR