BEGIN:VCALENDAR
VERSION:2.0
PRODID:-//wp-events-plugin.com//7.2.3.1//EN
BEGIN:VEVENT
UID:677@helden-repetal.de
DTSTART;TZID=Europe/Berlin:20250225T190000
DTEND;TZID=Europe/Berlin:20250225T210000
DTSTAMP:20250213T131306Z
URL:https://helden-repetal.de/termine/vorbereitungstreffen-repetaler-wande
 rtag-2025/
SUMMARY:Vorbereitungstreffen Repetaler Wandertag 2025
DESCRIPTION:Dorfverein/SGV\n\nRaum: Saal
END:VEVENT
BEGIN:VTIMEZONE
TZID:Europe/Berlin
X-LIC-LOCATION:Europe/Berlin
BEGIN:STANDARD
DTSTART:20241027T020000
TZOFFSETFROM:+0200
TZOFFSETTO:+0100
TZNAME:CET
END:STANDARD
END:VTIMEZONE
END:VCALENDAR